BEGIN:VCALENDAR
VERSION:2.0
PRODID:-//ChamberMaster//Event Calendar 2.0//EN
METHOD:PUBLISH
X-PUBLISHED-TTL:P3D
REFRESH-INTERVAL:P3D
CALSCALE:GREGORIAN
BEGIN:VEVENT
DTSTART;VALUE=DATE:20120622
DTEND;VALUE=DATE:20120623
TRANSP:TRANSPARENT
X-MICROSOFT-CDO-ALLDAYEVENT:TRUE
SUMMARY:11th Annual TCAR Utah RPAC Golf Tournament
DESCRIPTION:11th Annual TCAR\n\nUtah RPAC Golf Tournament\n\nFriday\, June 22\, 2012\n\nStansbury Golf course\n\nStansbury\, Utah\n\nContact Berna Sloan\n\n435-840-5029\n\nhome@tooelegroup1.com\n\nor Rachel Cowan\n\n435-830-7637\n\nrachael.cowan@utahhomes.com
X-ALT-DESC;FMTTYPE=text/html:11th Annual TCAR<br />\nUtah RPAC Golf Tournament<br />\nFriday\, June 22\, 2012<br />\nStansbury Golf course<br />\nStansbury\, Utah<br />\nContact Berna Sloan<br />\n435-840-5029<br />\nhome@tooelegroup1.com<br />\nor Rachel Cowan<br />\n435-830-7637<br />\nrachael.cowan@utahhomes.com
LOCATION:
UID:e.125.4838
SEQUENCE:3
DTSTAMP:20260421T122612Z
URL:https://members.tooelechamber.com/events/details/11th-annual-tcar-utah-rpac-golf-tournament-06-22-2012-4838
END:VEVENT

END:VCALENDAR
