BEGIN:VCALENDAR
VERSION:2.0
PRODID:-//ChamberMaster//Event Calendar 2.0//EN
METHOD:PUBLISH
X-PUBLISHED-TTL:P3D
REFRESH-INTERVAL:P3D
CALSCALE:GREGORIAN
BEGIN:VEVENT
DTSTART;VALUE=DATE:20101018
DTEND;VALUE=DATE:20101020
TRANSP:TRANSPARENT
X-MICROSOFT-CDO-ALLDAYEVENT:TRUE
SUMMARY:2- Day Sale at Anytime Fitness
DESCRIPTION:2-Day Sale. Come in and get a jump start before the holidays arrive. $2.00 enrollment\, free tanning\, and personal training sessions.
X-ALT-DESC;FMTTYPE=text/html:2-Day Sale. Come in and get a jump start before the holidays arrive. $2.00 enrollment\, free tanning\, and personal training sessions. 
LOCATION:Stansbury Park and Grantsville Anytime Fitness
UID:e.125.3261
SEQUENCE:3
DTSTAMP:20260422T220348Z
URL:https://members.tooelechamber.com/events/details/2-day-sale-at-anytime-fitness-10-18-2010-3261
END:VEVENT

END:VCALENDAR
