BEGIN:VCALENDAR
VERSION:2.0
PRODID:-//ChamberMaster//Event Calendar 2.0//EN
METHOD:PUBLISH
X-PUBLISHED-TTL:P3D
REFRESH-INTERVAL:P3D
CALSCALE:GREGORIAN
BEGIN:VEVENT
DTSTART:20110428T010000Z
DTEND:20110428T030000Z
X-MICROSOFT-CDO-ALLDAYEVENT:FALSE
SUMMARY:2011 Organizing Convention of the Tooele County Democratic Party
DESCRIPTION:Notice of the Organizing Convention of the Tooele County Democratic Party\n\n\n\nNotice is hereby given that the County Organizing Convention of the Democratic Party for Tooele County will be held at the Tooele County Senior Center\, 59 West Vine in Tooele\, Utah at 7:00pm on Thursday\, the 27th day of April\, 2011.\n\n\n\nAt this Convention\, a County Chairperson\, Vice-Chairperson\, Secretary and Treasurer to serve for the ensuing two years will be chosen and other Party affairs may be considered. Delegates to this County Organizing Convention shall be the same persons who were seated as Delegates to the Tooele County Primary Convention which was held last year and who have not died\, resigned or been disqualified\, as well as any others officially appointed.\n\n\n\nA Central Committee Meeting will be held one half-hour prior to the Organizing Convention at the same location as the Convention.
X-ALT-DESC;FMTTYPE=text/html:Notice of the Organizing Convention of the Tooele County Democratic Party<br />\n<br />\nNotice is hereby given that the County Organizing Convention of the Democratic Party for Tooele County will be held at the Tooele County Senior Center\, 59 West Vine in Tooele\, Utah at 7:00pm on Thursday\, the 27th day of April\, 2011.<br />\n<br />\nAt this Convention\, a County Chairperson\, Vice-Chairperson\, Secretary and Treasurer to serve for the ensuing two years will be chosen and other Party affairs may be considered. Delegates to this County Organizing Convention shall be the same persons who were seated as Delegates to the Tooele County Primary Convention which was held last year and who have not died\, resigned or been disqualified\, as well as any others officially appointed.<br />\n<br />\nA Central Committee Meeting will be held one half-hour prior to the Organizing Convention at the same location as the Convention.
LOCATION:Tooele County Senior Center 59 West Vine Tooele\, UT 84074
UID:e.125.3642
SEQUENCE:3
DTSTAMP:20260422T104821Z
URL:https://members.tooelechamber.com/events/details/2011-organizing-convention-of-the-tooele-county-democratic-party-04-27-2011-3642
END:VEVENT

END:VCALENDAR
