BEGIN:VCALENDAR
VERSION:2.0
PRODID:-//ChamberMaster//Event Calendar 2.0//EN
METHOD:PUBLISH
X-PUBLISHED-TTL:P3D
REFRESH-INTERVAL:P3D
CALSCALE:GREGORIAN
BEGIN:VEVENT
DTSTART;VALUE=DATE:20080630
DTEND;VALUE=DATE:20080706
TRANSP:TRANSPARENT
X-MICROSOFT-CDO-ALLDAYEVENT:TRUE
SUMMARY:4th of July Activities
DESCRIPTION:June 30- Military Band 7pm @ City Swimming Pool ParkJuly 1- Movie Night in the Park- Dusk (9pm approx.)July 2- Karaoke\, pool park\, no time setJuly 3- Rodeo @ Deseret Peak\, 7pmJuly 4- Rodeo @ Deseret Peak\, 7pmJuly 5-Ty Herndon Concert\, 7pm\, Time: TBD
X-ALT-DESC;FMTTYPE=text/html:<div>June 30- Military Band 7pm @ City Swimming Pool Park</div><div>July 1- Movie Night in the Park- Dusk (9pm approx.)</div><div>July 2- Karaoke\, pool park\, no time set</div><div>July 3- Rodeo @ Deseret Peak\, 7pm</div><div>July 4- Rodeo @ Deseret Peak\, 7pm</div><div>July 5-Ty Herndon Concert\, 7pm\, Time: TBD</div>
LOCATION:
UID:e.125.246
SEQUENCE:3
DTSTAMP:20260424T153725Z
URL:https://members.tooelechamber.com/events/details/4th-of-july-activities-06-30-2008-246
END:VEVENT

END:VCALENDAR
