BEGIN:VCALENDAR
VERSION:2.0
PRODID:-//ChamberMaster//Event Calendar 2.0//EN
METHOD:PUBLISH
X-PUBLISHED-TTL:P3D
REFRESH-INTERVAL:P3D
CALSCALE:GREGORIAN
BEGIN:VEVENT
DTSTART;VALUE=DATE:20080704
DTEND;VALUE=DATE:20080705
TRANSP:TRANSPARENT
X-MICROSOFT-CDO-ALLDAYEVENT:TRUE
SUMMARY:4th of July Breakfast
DESCRIPTION:4th of July BreakfastVeteran's Memorial ParkVine & Main\, Tooele7-8:30 amAdults- $510 & Under- $32 & under- Free
X-ALT-DESC;FMTTYPE=text/html:<div align="center"><font size="4">4th of July Breakfast</font></div><div align="center"><font size="4">Veteran&rsquo\;s Memorial Park</font></div><div align="center"><font size="4">Vine &amp\; Main\, Tooele</font></div><div align="center"><font size="4">7-8:30 am</font></div><div align="center"><font size="4">Adults- $5</font></div><div align="center"><font size="4">10 &amp\; Under- $3</font></div><div align="center"><font size="4">2 &amp\; under- Free</font></div>
LOCATION:Veteran's Memorial ParkVine & Main
UID:e.125.216
SEQUENCE:3
DTSTAMP:20260424T153807Z
URL:https://members.tooelechamber.com/events/details/4th-of-july-breakfast-07-04-2008-216
END:VEVENT

END:VCALENDAR
