BEGIN:VCALENDAR
VERSION:2.0
PRODID:-//ChamberMaster//Event Calendar 2.0//EN
METHOD:PUBLISH
X-PUBLISHED-TTL:P3D
REFRESH-INTERVAL:P3D
CALSCALE:GREGORIAN
BEGIN:VEVENT
DTSTART:20110704T150000Z
DTEND:20110704T160000Z
X-MICROSOFT-CDO-ALLDAYEVENT:FALSE
SUMMARY:4th of July Parade
DESCRIPTION:4th of July Parade \n\n	Monday\, July 4\, 2011@ 9am\n\n	Tooele Main Street\n\n	Hill Air Force Base Jet Fly Over approx. 9am
X-ALT-DESC;FMTTYPE=text/html:<p style="text-align: center">\n	<span style="font-size: 22px">4th of July Parade&nbsp\;<br />\n	Monday\, July 4\, 2011@ 9am<br />\n	Tooele Main Street<br />\n	Hill Air Force Base Jet Fly Over approx. 9am</span></p>\n
LOCATION:
UID:e.125.3546
SEQUENCE:3
DTSTAMP:20260422T060950Z
URL:https://members.tooelechamber.com/events/details/4th-of-july-parade-07-04-2011-3546
END:VEVENT

END:VCALENDAR
