BEGIN:VCALENDAR
VERSION:2.0
PRODID:-//ChamberMaster//Event Calendar 2.0//EN
METHOD:PUBLISH
X-PUBLISHED-TTL:P3D
REFRESH-INTERVAL:P3D
CALSCALE:GREGORIAN
BEGIN:VEVENT
DTSTART;VALUE=DATE:20120414
DTEND;VALUE=DATE:20120415
TRANSP:TRANSPARENT
X-MICROSOFT-CDO-ALLDAYEVENT:TRUE
SUMMARY:5K Blue Rock Run
DESCRIPTION:5K Blue Rock Run\n\nApril 14th\n\nWalk begins at 8:30 am\, and run begins at 9 am.\n\nPick up registration forms at the USU Tooele campus\n\nBlue Rock Run held at USU Tooele Campus
X-ALT-DESC;FMTTYPE=text/html:5K Blue Rock Run<br />\nApril 14th<br />\nWalk begins at 8:30 am\, and run begins at 9 am.<br />\nPick up registration forms at the&nbsp\;USU Tooele campus<br />\nBlue Rock Run held at USU Tooele Campus<br />\n
LOCATION:
UID:e.125.4837
SEQUENCE:3
DTSTAMP:20260421T154414Z
URL:https://members.tooelechamber.com/events/details/5k-blue-rock-run-04-14-2012-4837
END:VEVENT

END:VCALENDAR
