BEGIN:VCALENDAR
VERSION:2.0
PRODID:-//ChamberMaster//Event Calendar 2.0//EN
METHOD:PUBLISH
X-PUBLISHED-TTL:P3D
REFRESH-INTERVAL:P3D
CALSCALE:GREGORIAN
BEGIN:VEVENT
DTSTART:20110704T130000Z
DTEND:20110704T150000Z
X-MICROSOFT-CDO-ALLDAYEVENT:FALSE
SUMMARY:5K Run
DESCRIPTION:5K Run\n\n	Monday\, July 4th @ 7am\n\n	Skyline Drive\, Tooele
X-ALT-DESC;FMTTYPE=text/html:<p style="text-align: center">\n	<span style="font-size: 26px">5K Run<br />\n	Monday\, July 4th @ 7am<br />\n	Skyline Drive\, Tooele </span></p>\n
LOCATION:
UID:e.125.3716
SEQUENCE:3
DTSTAMP:20260422T073624Z
URL:https://members.tooelechamber.com/events/details/5k-run-07-04-2011-3716
END:VEVENT

END:VCALENDAR
