BEGIN:VCALENDAR
VERSION:2.0
PRODID:-//ChamberMaster//Event Calendar 2.0//EN
METHOD:PUBLISH
X-PUBLISHED-TTL:P3D
REFRESH-INTERVAL:P3D
CALSCALE:GREGORIAN
BEGIN:VEVENT
DTSTART;VALUE=DATE:20090801
DTEND;VALUE=DATE:20090802
TRANSP:TRANSPARENT
X-MICROSOFT-CDO-ALLDAYEVENT:TRUE
SUMMARY:62nd Annual Tooele County Livestock Show
DESCRIPTION:The 62nd AnnualTooele County Livestock Showans AuctionSat. August 1st\, 2009 Buyer's Breakfast8:30 amLivestock Sale10 am www.tooelefair.comJuly 30- Aug 1\, 2009
X-ALT-DESC;FMTTYPE=text/html:<div align="center"><font size="4">The 62nd Annual</font></div><div align="center"><font size="4">Tooele County </font></div><div align="center"><font size="4">Livestock Show</font></div><div align="center"><font size="4">ans Auction</font></div><div align="center"><font size="4">Sat. August 1st\, 2009</font></div><div align="center">&nbsp\;</div><div align="center"><font size="4">Buyer's Breakfast</font></div><div align="center"><font size="4">8:30 am</font></div><div align="center"><font size="4">Livestock Sale</font></div><div align="center"><font size="4">10 am</font></div><div align="center">&nbsp\;</div><div align="center"><a href="http://www.tooelefair.com"><font size="4">www.tooelefair.com</font></a></div><div align="center"><font size="4">July 30- Aug 1\, 2009</font></div>
LOCATION:
UID:e.125.547
SEQUENCE:3
DTSTAMP:20260423T200153Z
URL:https://members.tooelechamber.com/events/details/62nd-annual-tooele-county-livestock-show-08-01-2009-547
END:VEVENT

END:VCALENDAR
