BEGIN:VCALENDAR
VERSION:2.0
PRODID:-//ChamberMaster//Event Calendar 2.0//EN
METHOD:PUBLISH
X-PUBLISHED-TTL:P3D
REFRESH-INTERVAL:P3D
CALSCALE:GREGORIAN
BEGIN:VEVENT
DTSTART:20111112T170000Z
DTEND:20111112T223000Z
X-MICROSOFT-CDO-ALLDAYEVENT:FALSE
SUMMARY:8th Annual Family Caregiver Conference
DESCRIPTION:8th Annual Caregivers Conference\n\nfor family caregivers of elderly loved-ones\n\nCoping with Caring - Exploring the Options\n\nSaturday\, November 12\, 2011 from 10am-3:30pm\n\nTooele Senior Citizens Center\n\n59 East Vine Street\, Tooele\n\nRegistration at door: $10\n\nEarly-bird registration: $8
X-ALT-DESC;FMTTYPE=text/html:8th Annual Caregivers Conference<br />\nfor family caregivers of elderly loved-ones<br />\nCoping with Caring - Exploring the Options<br />\nSaturday\, November 12\, 2011 from 10am-3:30pm<br />\nTooele Senior Citizens Center<br />\n59 East Vine Street\, Tooele<br />\nRegistration at door: $10<br />\nEarly-bird registration: $8<br />\n
LOCATION:
UID:e.125.3886
SEQUENCE:3
DTSTAMP:20260422T012319Z
URL:https://members.tooelechamber.com/events/details/8th-annual-family-caregiver-conference-11-12-2011-3886
END:VEVENT

END:VCALENDAR
