BEGIN:VCALENDAR
VERSION:2.0
PRODID:-//ChamberMaster//Event Calendar 2.0//EN
METHOD:PUBLISH
X-PUBLISHED-TTL:P3D
REFRESH-INTERVAL:P3D
CALSCALE:GREGORIAN
BEGIN:VEVENT
DTSTART:20121103T150000Z
DTEND:20121103T203000Z
X-MICROSOFT-CDO-ALLDAYEVENT:FALSE
SUMMARY:9TH ANNUAL FAMILY CAREGIVER CONFERENCE
DESCRIPTION:9TH ANNUAL FAMILY CAREGIVER CONFERENCE\n\n	For Family Caregivers of Elderly Loved Ones\n\n	THEME:               CAREGIVING:  from COPING to EMPOWERMENT\n\n	DATE:                  Saturday\, November 3\, 2012\n\n	TIME:                   10:00 AM-2:30 PM (registration\, continental breakfast)\n\n	PLACE:                 TOOELE SENIOR CENTER\n\n	                             59 EAST VINE STREET\n\n	                             TOOELE\, UTAH  84074\n\n	FAX:                     (435) 882-6971\n\n	EMAIL:                freed@co.tooele.ut.us.\n\n	CONTACT:           Frank Reed (435)843-4107\n\n	\n\n	Click here to edit...
X-ALT-DESC;FMTTYPE=text/html:<div style="color: gray">\n	<span style="font-size: 14px"><u><strong><span style="color: #0070c0"><span style="font-family: calibri\,sans-serif">9<sup>TH</sup> ANNUAL FAMILY CAREGIVER CONFERENCE</span></span></strong></u><br />\n	<span style="color: #000000"><span style="font-family: calibri\,sans-serif">For Family Caregivers of Elderly Loved Ones</span><br />\n	<span style="font-family: calibri\,sans-serif">THEME:&nbsp\;&nbsp\;&nbsp\;&nbsp\;&nbsp\;&nbsp\;&nbsp\;&nbsp\;&nbsp\;&nbsp\;&nbsp\;&nbsp\;&nbsp\;&nbsp\; CAREGIVING:&nbsp\; from COPING to EMPOWERMENT</span><br />\n	<span style="font-family: calibri\,sans-serif">DATE:&nbsp\;&nbsp\;&nbsp\;&nbsp\;&nbsp\;&nbsp\;&nbsp\;&nbsp\;&nbsp\;&nbsp\;&nbsp\;&nbsp\;&nbsp\;&nbsp\;&nbsp\;&nbsp\;&nbsp\; Saturday\, November 3\, 2012</span><br />\n	<span style="font-family: calibri\,sans-serif">TIME:&nbsp\;&nbsp\;&nbsp\;&nbsp\;&nbsp\;&nbsp\;&nbsp\;&nbsp\;&nbsp\;&nbsp\;&nbsp\;&nbsp\;&nbsp\;&nbsp\;&nbsp\;&nbsp\;&nbsp\;&nbsp\; 10:00 AM-2:30 PM (registration\, continental breakfast)</span><br />\n	<span style="font-family: calibri\,sans-serif">PLACE:&nbsp\;&nbsp\;&nbsp\;&nbsp\;&nbsp\;&nbsp\;&nbsp\;&nbsp\;&nbsp\;&nbsp\;&nbsp\;&nbsp\;&nbsp\;&nbsp\;&nbsp\;&nbsp\; TOOELE SENIOR CENTER</span><br />\n	<span style="font-family: calibri\,sans-serif">&nbsp\;&nbsp\;&nbsp\;&nbsp\;&nbsp\;&nbsp\;&nbsp\;&nbsp\;&nbsp\;&nbsp\;&nbsp\;&nbsp\;&nbsp\;&nbsp\;&nbsp\;&nbsp\;&nbsp\;&nbsp\;&nbsp\;&nbsp\;&nbsp\;&nbsp\;&nbsp\;&nbsp\;&nbsp\;&nbsp\;&nbsp\;&nbsp\; 59 EAST VINE STREET</span><br />\n	<span style="font-family: calibri\,sans-serif">&nbsp\;&nbsp\;&nbsp\;&nbsp\;&nbsp\;&nbsp\;&nbsp\;&nbsp\;&nbsp\;&nbsp\;&nbsp\;&nbsp\;&nbsp\;&nbsp\;&nbsp\;&nbsp\;&nbsp\;&nbsp\;&nbsp\;&nbsp\;&nbsp\;&nbsp\;&nbsp\;&nbsp\;&nbsp\;&nbsp\;&nbsp\;&nbsp\; TOOELE\, UTAH&nbsp\; 84074</span><br />\n	<span style="font-family: calibri\,sans-serif">FAX:&nbsp\;&nbsp\;&nbsp\;&nbsp\;&nbsp\;&nbsp\;&nbsp\;&nbsp\;&nbsp\;&nbsp\;&nbsp\;&nbsp\;&nbsp\;&nbsp\;&nbsp\;&nbsp\;&nbsp\;&nbsp\;&nbsp\;&nbsp\; (435) 882-6971</span><br />\n	<span style="font-family: calibri\,sans-serif">EMAIL:&nbsp\;&nbsp\;&nbsp\;&nbsp\;&nbsp\;&nbsp\;&nbsp\;&nbsp\;&nbsp\;&nbsp\;&nbsp\;&nbsp\;&nbsp\;&nbsp\;&nbsp\; </span></span><span style="font-family: arial\,sans-serif"><span style="color: #000000"><span style="font-family: arial\,sans-serif"><span style="font-family: arial\,sans-serif"><span style="color: #000000"><span style="font-family: arial\,sans-serif"><a href="mailto:freed@co.tooele.ut.us"><span style="font-family: calibri\,sans-serif">freed@co.tooele.ut.us</span></a></span></span></span></span></span><span style="font-family: arial\,sans-serif"></span></span><span style="color: #000000"><span style="font-family: calibri\,sans-serif">.</span><br />\n	<span style="font-family: calibri\,sans-serif">CONTACT:&nbsp\;&nbsp\;&nbsp\;&nbsp\;&nbsp\;&nbsp\;&nbsp\;&nbsp\;&nbsp\;&nbsp\; Frank Reed (435)843-4107</span></span></span><br />\n	<br />\n	<span style="color: #000000">Click here to edit...</span></div>\n
LOCATION:
UID:e.125.4943
SEQUENCE:3
DTSTAMP:20260421T032348Z
URL:https://members.tooelechamber.com/events/details/9th-annual-family-caregiver-conference-11-03-2012-4943
END:VEVENT

END:VCALENDAR
