BEGIN:VCALENDAR
VERSION:2.0
PRODID:-//ChamberMaster//Event Calendar 2.0//EN
METHOD:PUBLISH
X-PUBLISHED-TTL:P3D
REFRESH-INTERVAL:P3D
CALSCALE:GREGORIAN
BEGIN:VEVENT
DTSTART;VALUE=DATE:20081129
DTEND;VALUE=DATE:20081130
TRANSP:TRANSPARENT
X-MICROSOFT-CDO-ALLDAYEVENT:TRUE
SUMMARY:'' A Bear's Tale'' Book Signing
DESCRIPTION:Grantsville native Tad Bear creates American Indian children's nativity story\nA   Bear's Tale by Tad BearCome and meet Tad Bear and have him sign your copy of A Bear's Tale. November 29The Home Touch\n12:00 p.m. to 6:00 p.m.\n10 N. Main St.Tooele\, UT
X-ALT-DESC;FMTTYPE=text/html:<p class="paragraph_style" style="padding-top: 0pt" align="center">&nbsp\;<span class="style" style="line-height: 52px"><strong><em>Grantsville native Tad Bear creates American Indian children&rsquo\;s nativity story</em></strong></span><span class="style" style="line-height: 52px"><br />A&nbsp\;&nbsp\; Bear&rsquo\;s Tale by Tad Bear</span></p><p class="paragraph_style_1" align="center">Come and meet Tad Bear and have him sign your copy of A Bear&rsquo\;s Tale.&nbsp\;</p><p class="paragraph_style_1" align="center">November 29</p><p class="paragraph_style_3" align="center"><span class="style_1" style="line-height: 20px">The Home Touch<br /></span></p><p class="paragraph_style_3" align="center"><span class="style_2" style="line-height: 20px">12:00 p.m. to 6:00 p.m.<br /></span></p><p class="paragraph_style_4" align="center">10 N. Main St.</p><p class="paragraph_style_4" align="center"><span class="style_3">Tooele\, UT </span></p><p>&nbsp\;</p><p>&nbsp\;</p>
LOCATION:
UID:e.125.496
SEQUENCE:3
DTSTAMP:20260424T100226Z
URL:https://members.tooelechamber.com/events/details/a-bear-s-tale-book-signing-11-29-2008-496
END:VEVENT

END:VCALENDAR
