BEGIN:VCALENDAR
VERSION:2.0
PRODID:-//ChamberMaster//Event Calendar 2.0//EN
METHOD:PUBLISH
X-PUBLISHED-TTL:P3D
REFRESH-INTERVAL:P3D
CALSCALE:GREGORIAN
BEGIN:VEVENT
DTSTART:20090529T153000Z
DTEND:20090529T203000Z
X-MICROSOFT-CDO-ALLDAYEVENT:FALSE
SUMMARY:AARP Safe Driving Class
DESCRIPTION:A new one-day\, four hour AARP Safe DrivingClass will be sponsored by Mountain West's SeniorCircle on May 29\, 2009. The class will beheld from 9:30 am to 2:30 pm. Lunch is from11:30 am to 12:30 p.m. Class will cost $14 witha certificate issued at the end of the class. Thecertificate may get you a discount on your insurancefor 3 years. All participants must sign upprior to the day of the class. AARP members willreceive a $2 discount on showing a current AARPmembership card. Call (435) 843-3690 or (435)843-3691 for information and to sign up.
X-ALT-DESC;FMTTYPE=text/html:<div><font face="Verdana" size="2"><font face="Verdana" size="2"><p align="center">A new one-day\, four hour AARP Safe Driving</p><p align="center">Class will be sponsored by Mountain West&rsquo\;s Senior</p><p align="center">Circle on May 29\, 2009. The class will be</p><p align="center">held from 9:30 am to 2:30 pm. Lunch is from</p><p align="center">11:30 am to 12:30 p.m. Class will cost $14 with</p><p align="center">a certificate issued at the end of the class. The</p><p align="center">certificate may get you a discount on your insurance</p><p align="center">for 3 years. All participants must sign up</p><p align="center">prior to the day of the class. AARP members will</p><p align="center">receive a $2 discount on showing a current AARP</p><p align="center">membership card. Call (435) 843-3690 or (435)</p><p align="center">843-3691 for information and to sign up.</p></font></font></div>
LOCATION:
UID:e.125.2531
SEQUENCE:3
DTSTAMP:20260423T231958Z
URL:https://members.tooelechamber.com/events/details/aarp-safe-driving-class-05-29-2009-2531
END:VEVENT

END:VCALENDAR
