BEGIN:VCALENDAR
VERSION:2.0
PRODID:-//ChamberMaster//Event Calendar 2.0//EN
METHOD:PUBLISH
X-PUBLISHED-TTL:P3D
REFRESH-INTERVAL:P3D
CALSCALE:GREGORIAN
BEGIN:VEVENT
DTSTART:20140419T163000Z
DTEND:20140419T180000Z
X-MICROSOFT-CDO-ALLDAYEVENT:FALSE
SUMMARY:Abraham Low Session
DESCRIPTION:MaryAnne Johnson
X-ALT-DESC;FMTTYPE=text/html:MaryAnne Johnson
LOCATION:Small Mtg Room
UID:e.125.5538
SEQUENCE:3
DTSTAMP:20260419T200652Z
URL:https://members.tooelechamber.com/events/details/abraham-low-session-04-19-2014-5538
END:VEVENT

END:VCALENDAR
