BEGIN:VCALENDAR
VERSION:2.0
PRODID:-//ChamberMaster//Event Calendar 2.0//EN
METHOD:PUBLISH
X-PUBLISHED-TTL:P3D
REFRESH-INTERVAL:P3D
CALSCALE:GREGORIAN
BEGIN:VEVENT
DTSTART:20070123T070000Z
DTEND:20070222T070000Z
X-MICROSOFT-CDO-ALLDAYEVENT:FALSE
SUMMARY:Accelerated Equity/Eliminate Your Mortgage Worksho
DESCRIPTION:2/22 @ 6:30pm This workshop shows you how to pay off your home in 1/3-1/2 the time no matter how long you have left. It's a great program to eliminate the huge payment each month. Imagine what you can do with that money. You do not have to refi to do the program! RSVP 882-0355.
X-ALT-DESC;FMTTYPE=text/html:2/22 @ 6:30pm This workshop shows you how to pay off your home in 1/3-1/2 the time no matter how long you have left. It's a great program to eliminate the huge payment each month. Imagine what you can do with that money. You do not have to refi to do the program! RSVP 882-0355.
LOCATION:60 South Main Street
UID:e.125.47
SEQUENCE:3
DTSTAMP:20260425T170759Z
URL:https://members.tooelechamber.com/events/details/accelerated-equity-eliminate-your-mortgage-worksho-01-23-2007-47
END:VEVENT

END:VCALENDAR
