BEGIN:VCALENDAR
VERSION:2.0
PRODID:-//ChamberMaster//Event Calendar 2.0//EN
METHOD:PUBLISH
X-PUBLISHED-TTL:P3D
REFRESH-INTERVAL:P3D
CALSCALE:GREGORIAN
BEGIN:VEVENT
DTSTART:20100831T170000Z
DTEND:20100831T220000Z
X-MICROSOFT-CDO-ALLDAYEVENT:FALSE
SUMMARY:Ace Disposal 30 Year Anniversary
DESCRIPTION:Ace Disposal 30 Year Anniversary Tuesday\, August 31\, 2010 Lunch from 11am-2pm Tours from 11am-4pm New location2274 South Technology Drive (3450 West)\, West Valley City We will be doing a ribbon cutting ceremony at 11am lunch will be served
X-ALT-DESC;FMTTYPE=text/html:<div style="text-align: center"><span style="font-size: large">Ace Disposal 30 Year Anniversary </span></div><div style="text-align: center"><span style="font-size: large">Tuesday\, August 31\, 2010 </span></div><div style="text-align: center"><span style="font-size: large">Lunch from 11am-2pm </span></div><div style="text-align: center"><span style="font-size: large">Tours from 11am-4pm </span></div><div style="text-align: center"><span style="font-size: large">New location</span></div><div style="text-align: center"><span style="font-size: large">2274 South Technology Drive (3450 West)\, </span></div><div style="text-align: center"><span style="font-size: large">West Valley City </span></div><div style="text-align: center"><span style="font-size: large">We will be doing a ribbon cutting ceremony </span></div><div style="text-align: center"><span style="font-size: large">at 11am </span></div><div style="text-align: center"><span style="font-size: large">lunch will be served </span></div>
LOCATION:
UID:e.125.3224
SEQUENCE:3
DTSTAMP:20260422T234318Z
URL:https://members.tooelechamber.com/events/details/ace-disposal-30-year-anniversary-08-31-2010-3224
END:VEVENT

END:VCALENDAR
