BEGIN:VCALENDAR
VERSION:2.0
PRODID:-//ChamberMaster//Event Calendar 2.0//EN
METHOD:PUBLISH
X-PUBLISHED-TTL:P3D
REFRESH-INTERVAL:P3D
CALSCALE:GREGORIAN
BEGIN:VEVENT
DTSTART:20121021T010000Z
DTEND:20121020T060000Z
X-MICROSOFT-CDO-ALLDAYEVENT:FALSE
SUMMARY:All Halloms
DESCRIPTION:ALL HALLOMS\n\n\n\nOCTOBER 20\, 2012\n\n7- MIDNIGHT\n\nDOW JAMES BUILDING (400 W 440 N) TOOELE\n\n\n\n$20/PERSON $30/COUPLE\n\n\n\nNO ALCOHOL~ NO FULL FACE MASKS~ 16 OR OLDER ~ DANCING ~ TREATS\n\n\n\nPRIZE CONTEST: COSTUME\n\nHAUNTED GINGERBREAD HOUSE\n\nPUMPKIN CARVING\n\n*DUE OCTOBER 20\, 2012 @ 5:00PM\n\n\n\nwww.LaForgeEncore.org\n\n\n\nfor a special discount\n\nuse coupon code:90NMAIN\n\nwhen purchasing tickets
X-ALT-DESC;FMTTYPE=text/html:<span style="color: #ff8c00"><u><span style="font-size: 22px">ALL HALLOMS</span></u></span><br />\n<br />\nOCTOBER 20\, 2012<br />\n7- MIDNIGHT<br />\nDOW JAMES BUILDING (400 W 440 N) TOOELE<br />\n<br />\n$20/PERSON $30/COUPLE<br />\n<br />\nNO ALCOHOL~ NO FULL FACE MASKS~ 16 OR OLDER ~ DANCING ~ TREATS<br />\n<br />\nPRIZE CONTEST: COSTUME<br />\nHAUNTED GINGERBREAD HOUSE<br />\nPUMPKIN CARVING<br />\n*DUE OCTOBER 20\, 2012 @ 5:00PM<br />\n<br />\nwww.LaForgeEncore.org<br />\n<br />\nfor a special discount<br />\nuse coupon code:90NMAIN<br />\nwhen purchasing tickets
LOCATION:
UID:e.125.4936
SEQUENCE:3
DTSTAMP:20260421T051529Z
URL:https://members.tooelechamber.com/events/details/all-halloms-10-20-2012-4936
END:VEVENT

END:VCALENDAR
