BEGIN:VCALENDAR
VERSION:2.0
PRODID:-//ChamberMaster//Event Calendar 2.0//EN
METHOD:PUBLISH
X-PUBLISHED-TTL:P3D
REFRESH-INTERVAL:P3D
CALSCALE:GREGORIAN
BEGIN:VEVENT
DTSTART:20080111T150000Z
DTEND:20080111T160000Z
X-MICROSOFT-CDO-ALLDAYEVENT:FALSE
SUMMARY:Ambassador Meeting
DESCRIPTION:Chamber Ambassador Committee MeetingAll Ambassador members and potential members are invited to attend.
X-ALT-DESC;FMTTYPE=text/html:<div>Chamber Ambassador Committee Meeting</div><div>All Ambassador members and potential members are invited to attend.</div>
LOCATION:Edward Jones office (next to Maceys) in Tooele
UID:e.125.190
SEQUENCE:3
DTSTAMP:20260425T005220Z
URL:https://members.tooelechamber.com/events/details/ambassador-meeting-01-11-2008-190
END:VEVENT

END:VCALENDAR
