BEGIN:VCALENDAR
VERSION:2.0
PRODID:-//ChamberMaster//Event Calendar 2.0//EN
METHOD:PUBLISH
X-PUBLISHED-TTL:P3D
REFRESH-INTERVAL:P3D
CALSCALE:GREGORIAN
BEGIN:VEVENT
DTSTART:20120811T000000Z
DTEND:20120811T020000Z
X-MICROSOFT-CDO-ALLDAYEVENT:FALSE
SUMMARY:American Cancer Socity
DESCRIPTION:American Cancer Society\n\nRelay for Life @ 6 PM Desert Peak Complex
X-ALT-DESC;FMTTYPE=text/html:<span style="font-size: 20px"><strong><u>American Cancer Society</u><br />\nRelay for Life @ 6 PM Desert Peak Complex </strong></span>
LOCATION:
UID:e.125.4873
SEQUENCE:3
DTSTAMP:20260421T090151Z
URL:https://members.tooelechamber.com/events/details/american-cancer-socity-08-10-2012-4873
END:VEVENT

END:VCALENDAR
