BEGIN:VCALENDAR
VERSION:2.0
PRODID:-//ChamberMaster//Event Calendar 2.0//EN
METHOD:PUBLISH
X-PUBLISHED-TTL:P3D
REFRESH-INTERVAL:P3D
CALSCALE:GREGORIAN
BEGIN:VEVENT
DTSTART:20120324T013000Z
DTEND:20120328T013000Z
X-MICROSOFT-CDO-ALLDAYEVENT:FALSE
SUMMARY:Annie Jr.
DESCRIPTION:Clarke N. Johnsen Jr High presents "Annie Jr" March 23\, 24\, 26\, 27 at 7:30 p.m.  "Annie Jr" is a musical based on the original comic "Little Orphan Annie."  "Annie Jr" has all the fun and energy of the musical "Annie\," but is slightly condensed and is perfect for performance by Jr. High actors and is a great show for a family night out.  Tickets are $3 for students and children and $5 for Adults.
X-ALT-DESC;FMTTYPE=text/html:<span class="Apple-style-span" style="font-family: Calibri\; font-size: 16px\; color: rgb(0\, 0\, 0)\; ">Clarke N. Johnsen Jr High presents &ldquo\;Annie Jr&rdquo\; March 23\, 24\, 26\, 27 at 7:30 p.m.&nbsp\; &ldquo\;Annie Jr&rdquo\; is a musical based on the original comic &ldquo\;Little Orphan Annie.&rdquo\;&nbsp\; &ldquo\;Annie Jr&rdquo\; has all the fun and energy of the musical &ldquo\;Annie\,&rdquo\; but is slightly condensed and is perfect for performance by Jr. High actors and is a great show for a family night out.&nbsp\; Tickets are $3 for students and children and $5 for Adults.</span>
LOCATION:Clarke N Johnsen Jr. High School 2152 N 400 W 435-833-1939
UID:e.125.4833
SEQUENCE:3
DTSTAMP:20260421T173641Z
URL:https://members.tooelechamber.com/events/details/annie-jr-03-23-2012-4833
END:VEVENT

END:VCALENDAR
