BEGIN:VCALENDAR
VERSION:2.0
PRODID:-//ChamberMaster//Event Calendar 2.0//EN
METHOD:PUBLISH
X-PUBLISHED-TTL:P3D
REFRESH-INTERVAL:P3D
CALSCALE:GREGORIAN
BEGIN:VEVENT
DTSTART;VALUE=DATE:20090425
DTEND;VALUE=DATE:20090426
TRANSP:TRANSPARENT
X-MICROSOFT-CDO-ALLDAYEVENT:TRUE
SUMMARY:Annual DVSAVA 5K
DESCRIPTION:Good day all!  It is that time of year again - time for the Annual DVSAVA 5K Fun Run / Walk Against Violence.  Proceeds will benefit victims of domestic violence & sexual assault in Tooele County\, including those served by the DVSAVA crisis line\, the Tooele City Police Advocacy program\, and the Pathways Domestic Violence Shelter.  For more information on running\, walking or volunteering - visit the DVSAVA website.  This event is for the entire family.  Please pass the word along to anyone who might be interested. Hope to see you at Elton Park on Saturday April 25th!  For more information or to register please visithttp://www.dvsava.org/?pid=funrun
X-ALT-DESC;FMTTYPE=text/html:<div align="center">Good day all!&nbsp\; It is that time of year again - time for the Annual DVSAVA 5K Fun Run / Walk Against Violence.&nbsp\; Proceeds will benefit victims of domestic violence &amp\; sexual assault in Tooele County\, including those served by the&nbsp\;DVSAVA crisis line\, the Tooele City Police Advocacy program\, and the Pathways&nbsp\;Domestic&nbsp\;Violence&nbsp\;Shelter.&nbsp\; For&nbsp\;more information on running\, walking or volunteering - visit the DVSAVA website.&nbsp\; This event is for the entire family.&nbsp\; Please pass the word&nbsp\;along to anyone who might be interested.&nbsp\;Hope to see you&nbsp\;at&nbsp\;Elton Park on Saturday April 25th!&nbsp\;</div><div align="center">&nbsp\;For more information or to register please visit</div><div align="center"><a href="http://www.dvsava.org/?pid=funrun" target="_blank">http://www.dvsava.org/?pid=funrun</a></div>
LOCATION:
UID:e.125.2296
SEQUENCE:3
DTSTAMP:20260424T022216Z
URL:https://members.tooelechamber.com/events/details/annual-dvsava-5k-04-25-2009-2296
END:VEVENT

END:VCALENDAR
