BEGIN:VCALENDAR
VERSION:2.0
PRODID:-//ChamberMaster//Event Calendar 2.0//EN
METHOD:PUBLISH
X-PUBLISHED-TTL:P3D
REFRESH-INTERVAL:P3D
CALSCALE:GREGORIAN
BEGIN:VEVENT
DTSTART:20110423T160000Z
DTEND:20110423T180000Z
X-MICROSOFT-CDO-ALLDAYEVENT:FALSE
SUMMARY:Annual Easter Egg Hunt
DESCRIPTION:Tooele County Chamber of Commerce\n\n	Annual Easter Egg Hunt\n\n	Saturday\, April 23\, 2011 at 10am\n\n	Deseret Peak Complex\n\n	2930 West Hwy 112\, Tooele\n\n	All children under 12 is invited\n\n	Admission is FREE for everyone!!
X-ALT-DESC;FMTTYPE=text/html:<p style="text-align: center">\n	<span style="font-size: 20px">Tooele County Chamber of Commerce<br />\n	Annual Easter Egg Hunt<br />\n	Saturday\, April 23\, 2011 at 10am<br />\n	Deseret Peak Complex<br />\n	2930 West Hwy 112\, Tooele<br />\n	All children under 12 is invited<br />\n	Admission is FREE for everyone!!</span></p>\n
LOCATION:
UID:e.125.3510
SEQUENCE:3
DTSTAMP:20260422T104036Z
URL:https://members.tooelechamber.com/events/details/annual-easter-egg-hunt-04-23-2011-3510
END:VEVENT

END:VCALENDAR
