BEGIN:VCALENDAR
VERSION:2.0
PRODID:-//ChamberMaster//Event Calendar 2.0//EN
METHOD:PUBLISH
X-PUBLISHED-TTL:P3D
REFRESH-INTERVAL:P3D
CALSCALE:GREGORIAN
BEGIN:VEVENT
DTSTART:20101204T170000Z
DTEND:20101204T190000Z
X-MICROSOFT-CDO-ALLDAYEVENT:FALSE
SUMMARY:Annual Santa Parade
DESCRIPTION:Tooele County Chamber of Commerce \n\n	& Mountain West Medical Center Present: The Annual Santa Parade\n\n	Saturday\, December 4\, 2010 @ 10am \n\n	Check-out Santa on Wells Fargo Stage Coach\n\n	during the parade!\n\n	Meet Santa at City Hall after parade!\n\n	Come enjoy free cookies\, hot chocolate\, and candy canes!\n\n	Additional sponsors: Wal-Mart Logistics\, Wells Fargo\,\n\n	HeritageWest Credit Union \n\n	For more information contact the Chamber Office (435)882-0690
X-ALT-DESC;FMTTYPE=text/html:<p class="MsoNormal" style="text-align: center\; margin: 0in 0in 0pt">\n	<b style="mso-bidi-font-weight: normal"><u><span style="font-family: 'californian fb'\, 'serif'\; font-size: 14pt\; mso-bidi-font-family: arial"><font color="#000000">Tooele County Chamber of Commerce </font></span></u></b></p>\n<p class="MsoNormal" style="text-align: center\; margin: 0in 0in 0pt">\n	<b style="mso-bidi-font-weight: normal"><u><span style="font-family: 'californian fb'\, 'serif'\; font-size: 14pt\; mso-bidi-font-family: arial"><font color="#000000">&amp\; Mountain West Medical Center Present: The Annual Santa Parade</font></span></u></b></p>\n<p class="MsoNormal" style="text-align: center\; margin: 0in 0in 0pt">\n	<span style="font-family: 'californian fb'\, 'serif'\; font-size: 14pt\; mso-bidi-font-family: arial"><font color="#000000">Saturday\, December 4\, 2010 @ 10am </font></span></p>\n<p class="MsoNormal" style="text-align: center\; margin: 0in 0in 0pt">\n	<span style="font-family: 'californian fb'\, 'serif'\; font-size: 14pt\; mso-bidi-font-family: arial"><font color="#000000">Check-out Santa on Wells Fargo Stage Coach<br />\n	during the parade!</font></span></p>\n<p class="MsoNormal" style="text-align: center\; margin: 0in 0in 0pt">\n	<span style="font-family: 'californian fb'\, 'serif'\; font-size: 14pt\; mso-bidi-font-family: arial"><font color="#000000">Meet Santa at City Hall after parade!</font></span></p>\n<p class="MsoNormal" style="text-align: center\; margin: 0in 0in 0pt">\n	<span style="font-family: 'californian fb'\, 'serif'\; font-size: 14pt\; mso-bidi-font-family: arial"><font color="#000000">Come enjoy free cookies\, hot chocolate\, and candy canes!</font></span></p>\n<p class="MsoNormal" style="text-align: center\; margin: 0in 0in 0pt">\n	<span style="font-family: 'californian fb'\, 'serif'\; font-size: 14pt\; mso-bidi-font-family: arial"><font color="#000000">Additional sponsors: Wal-Mart Logistics\, Wells Fargo\,<br />\n	HeritageWest Credit Union </font></span></p>\n<p class="MsoNormal" style="text-align: center\; margin: 0in 0in 0pt">\n	<span style="font-family: 'californian fb'\, 'serif'\; font-size: 14pt\; mso-bidi-font-family: arial"><font color="#000000">For more information contact the Chamber Office (435)882-0690<span _fck_bookmark="1" style="display: none">&nbsp\;</span></font></span></p>\n
LOCATION:
UID:e.125.3301
SEQUENCE:3
DTSTAMP:20260422T171754Z
URL:https://members.tooelechamber.com/events/details/annual-santa-parade-12-04-2010-3301
END:VEVENT

END:VCALENDAR
