BEGIN:VCALENDAR
VERSION:2.0
PRODID:-//ChamberMaster//Event Calendar 2.0//EN
METHOD:PUBLISH
X-PUBLISHED-TTL:P3D
REFRESH-INTERVAL:P3D
CALSCALE:GREGORIAN
BEGIN:VEVENT
DTSTART;VALUE=DATE:20120518
DTEND;VALUE=DATE:20120519
TRANSP:TRANSPARENT
X-MICROSOFT-CDO-ALLDAYEVENT:TRUE
SUMMARY:Annual Spring Benefit Golf Tournament
DESCRIPTION:Annual Golf Tournament\n\nMay 18th at 8am\n\nWill be serving breakfast and lunch\n\nTo sign up\, contact Oquirrh Hills Golf at 435-882-4220
X-ALT-DESC;FMTTYPE=text/html:Annual Golf Tournament<br />\nMay 18th at 8am<br />\nWill be serving breakfast and lunch<br />\nTo sign up\, contact&nbsp\;Oquirrh Hills Golf at 435-882-4220<br />\n
LOCATION:
UID:e.125.4836
SEQUENCE:3
DTSTAMP:20260421T142520Z
URL:https://members.tooelechamber.com/events/details/annual-spring-benefit-golf-tournament-05-18-2012-4836
END:VEVENT

END:VCALENDAR
