BEGIN:VCALENDAR
VERSION:2.0
PRODID:-//ChamberMaster//Event Calendar 2.0//EN
METHOD:PUBLISH
X-PUBLISHED-TTL:P3D
REFRESH-INTERVAL:P3D
CALSCALE:GREGORIAN
BEGIN:VEVENT
DTSTART:20090613T160000Z
DTEND:20090613T200000Z
X-MICROSOFT-CDO-ALLDAYEVENT:FALSE
SUMMARY:Anytime Fitness Charity Walk
DESCRIPTION:Come join us in our first Charity Walk to raise funds for Kenidee Benton.  Kenidee was born with Optic Nerve Hypoplasia\, which means that she was born blind.  She is having to under go a medical procedure in September and we here at Anytime Fitness are very proud to be able to put an event together to help raise funds.  We will have registration for the walk/race start at 10:00 am and the fun festivities at 12:00.  Join us for a fun\,food\, games\, entertainment\, silent auction\, and much much more.
X-ALT-DESC;FMTTYPE=text/html:Come join us in our first Charity Walk to raise funds for Kenidee Benton.  Kenidee was born with Optic Nerve Hypoplasia\, which means that she was born blind.  She is having to under go a medical procedure in September and we here at Anytime Fitness are very proud to be able to put an event together to help raise funds.  We will have registration for the walk/race start at 10:00 am and the fun festivities at 12:00.  Join us for a fun\,food\, games\, entertainment\, silent auction\, and much much more. 
LOCATION:Grantsville City Park\, next to Grantsville High School
UID:e.125.551
SEQUENCE:3
DTSTAMP:20260423T213916Z
URL:https://members.tooelechamber.com/events/details/anytime-fitness-charity-walk-06-13-2009-551
END:VEVENT

END:VCALENDAR
