BEGIN:VCALENDAR
VERSION:2.0
PRODID:-//ChamberMaster//Event Calendar 2.0//EN
METHOD:PUBLISH
X-PUBLISHED-TTL:P3D
REFRESH-INTERVAL:P3D
CALSCALE:GREGORIAN
BEGIN:VEVENT
DTSTART:20080809T170000Z
DTEND:20080809T200000Z
X-MICROSOFT-CDO-ALLDAYEVENT:FALSE
SUMMARY:Arbys Grand Reopening Celebration
DESCRIPTION:Ribbon CuttingArby's Grand Reopening Celebration\nAugust 9th\, 11 am to 2 pm\n251 South Main St\, Tooele\n435-882-0690
X-ALT-DESC;FMTTYPE=text/html:<p align="center"><u><font face="times new roman\,times" size="5">Ribbon Cutting</font></u></p><p align="center"><font face="times new roman\,times" size="4">Arby's Grand Reopening Celebration<br />August 9th\, 11 am to 2 pm<br />251 South Main St\, Tooele<br />435-882-0690</font></p>
LOCATION:
UID:e.125.457
SEQUENCE:3
DTSTAMP:20260424T141034Z
URL:https://members.tooelechamber.com/events/details/arbys-grand-reopening-celebration-08-09-2008-457
END:VEVENT

END:VCALENDAR
