BEGIN:VCALENDAR
VERSION:2.0
PRODID:-//ChamberMaster//Event Calendar 2.0//EN
METHOD:PUBLISH
X-PUBLISHED-TTL:P3D
REFRESH-INTERVAL:P3D
CALSCALE:GREGORIAN
BEGIN:VEVENT
DTSTART:20100826T003000Z
DTEND:20100826T030000Z
X-MICROSOFT-CDO-ALLDAYEVENT:FALSE
SUMMARY:''Art of Imagination''
DESCRIPTION:"Art of Imagination"A magical night your family will not forget! The audience becomes the starsWednesday. August 25\, 2010 Doors open @ 6:30pmShowtime @ 7:00pmTooele High School 301 West Vine Street\, Tooele Tickets $8 100% of all ticket sales support Friends of the Tooele County Children's Justice Center For tickets email mjfeils2109@msn.com or ksorensen@county.tooele.ut.usor call (435)843-3440 or (435)882-7306
X-ALT-DESC;FMTTYPE=text/html:<div style="text-align: center"><span style="font-size: medium">&quot\;Art of Imagination&quot\;</span></div><div style="text-align: center"><span style="font-size: medium">A magical night your family will not forget! </span></div><div style="text-align: center"><span style="font-size: medium">The audience becomes the stars</span></div><div style="text-align: center"><span style="font-size: medium">Wednesday. August 25\, 2010 </span></div><div style="text-align: center"><span style="font-size: medium">Doors open @ 6:30pm</span></div><div style="text-align: center"><span style="font-size: medium">Showtime @ 7:00pm</span></div><div style="text-align: center"><span style="font-size: medium">Tooele High School </span></div><div style="text-align: center"><span style="font-size: medium">301 West Vine Street\, Tooele </span></div><div style="text-align: center"><span style="font-size: medium">Tickets $8 </span></div><div style="text-align: center"><span style="font-size: medium">100% of all ticket sales support Friends of the </span></div><div style="text-align: center"><span style="font-size: medium">Tooele County Children's Justice Center </span></div><div style="text-align: center"><span style="font-size: medium">For tickets email </span><a href="mailto:mjfeils2109@msn.com"><span style="font-size: medium">mjfeils2109@msn.com</span></a><span style="font-size: medium"> or </span><a href="mailto:ksorensen@county.tooele.ut.us"><span style="font-size: medium">ksorensen@county.tooele.ut.us</span></a></div><div style="text-align: center"><span style="font-size: medium">or call (435)843-3440 or (435)882-7306</span></div><div>&nbsp\;</div>
LOCATION:
UID:e.125.3218
SEQUENCE:3
DTSTAMP:20260423T012943Z
URL:https://members.tooelechamber.com/events/details/art-of-imagination-08-25-2010-3218
END:VEVENT

END:VCALENDAR
