BEGIN:VCALENDAR
VERSION:2.0
PRODID:-//ChamberMaster//Event Calendar 2.0//EN
METHOD:PUBLISH
X-PUBLISHED-TTL:P3D
REFRESH-INTERVAL:P3D
CALSCALE:GREGORIAN
BEGIN:VEVENT
DTSTART:20080414T220000Z
DTEND:20080414T220000Z
X-MICROSOFT-CDO-ALLDAYEVENT:FALSE
SUMMARY:Auditions for Missoula Children's Theatre
DESCRIPTION:Tooele children\, Kindergarten-8th grade*there is no guarantee that everyone who auditions will be cast in the play*Children must be able to attend all rehearsals and two performances on Saturday April 19
X-ALT-DESC;FMTTYPE=text/html:<div>Tooele children\, Kindergarten-8th grade</div><div>*there is no guarantee that everyone who auditions will be cast in the play</div><div>*Children must be able to attend all rehearsals and two performances on Saturday April 19</div>
LOCATION:Tooele High School Auditorium301 West Vine Street\, Tooele
UID:e.125.381
SEQUENCE:3
DTSTAMP:20260424T203729Z
URL:https://members.tooelechamber.com/events/details/auditions-for-missoula-children-s-theatre-04-14-2008-381
END:VEVENT

END:VCALENDAR
