BEGIN:VCALENDAR
VERSION:2.0
PRODID:-//ChamberMaster//Event Calendar 2.0//EN
METHOD:PUBLISH
X-PUBLISHED-TTL:P3D
REFRESH-INTERVAL:P3D
CALSCALE:GREGORIAN
BEGIN:VEVENT
DTSTART:20061211T070000Z
DTEND:20061211T070000Z
X-MICROSOFT-CDO-ALLDAYEVENT:FALSE
SUMMARY:Backyard Toys Ribbon Cutting
DESCRIPTION:The Chamber of Commerce will hold a ribbon cutting on Monday\, December 11th at 11:00am.   Backyard Toys is located on the southeast corner of SR 36 and Cimmarron Way.   Come help us celebrate their grand opening!
X-ALT-DESC;FMTTYPE=text/html:The Chamber of Commerce will hold a ribbon cutting on Monday\, December 11th at 11:00am.   Backyard Toys is located on the southeast corner of SR 36 and Cimmarron Way.   Come help us celebrate their grand opening!
LOCATION:426 East Cimmarron Way\, Erda
UID:e.125.42
SEQUENCE:3
DTSTAMP:20260425T195826Z
URL:https://members.tooelechamber.com/events/details/backyard-toys-ribbon-cutting-12-11-2006-42
END:VEVENT

END:VCALENDAR
