BEGIN:VCALENDAR
VERSION:2.0
PRODID:-//ChamberMaster//Event Calendar 2.0//EN
METHOD:PUBLISH
X-PUBLISHED-TTL:P3D
REFRESH-INTERVAL:P3D
CALSCALE:GREGORIAN
BEGIN:VEVENT
DTSTART:20131024T233000Z
DTEND:20131025T010000Z
X-MICROSOFT-CDO-ALLDAYEVENT:FALSE
SUMMARY:BAH
DESCRIPTION:KEY BANK
X-ALT-DESC;FMTTYPE=text/html:KEY BANK
LOCATION:
UID:e.125.5012
SEQUENCE:3
DTSTAMP:20260420T075318Z
URL:https://members.tooelechamber.com/events/details/bah-10-24-2013-5012
END:VEVENT

END:VCALENDAR
