BEGIN:VCALENDAR
VERSION:2.0
PRODID:-//ChamberMaster//Event Calendar 2.0//EN
METHOD:PUBLISH
X-PUBLISHED-TTL:P3D
REFRESH-INTERVAL:P3D
CALSCALE:GREGORIAN
BEGIN:VEVENT
DTSTART:20130425T233000Z
DTEND:20130426T010000Z
X-MICROSOFT-CDO-ALLDAYEVENT:FALSE
SUMMARY:BAH-Jumpin Jack Splash/Green Box Recycling
DESCRIPTION:Business After Hours\n\n	Jumpin Jack Splash/ Green Box Recycling\n\n	Thursday\, April 25th\, 2013\n\n	5:30-7:00pm\n\n	154 South Main Street\n\n	FREE networking event!\n\n	Bring business card to enter to win a prize!
X-ALT-DESC;FMTTYPE=text/html:<div style="color: gray">\n	<span style="color: #800080"><strong><u>&nbsp\;</u></strong><span style="font-size: 20px"><strong><u><span style="font-family: arial\, sans-serif">Business After Hours</span></u></strong><br />\n	<span style="font-family: arial\, sans-serif">Jumpin Jack Splash/ Green Box Recycling</span><br />\n	<span style="font-family: arial\, sans-serif">Thursday\, April 25<sup>th</sup>\, 2013</span><br />\n	<span style="font-family: arial\, sans-serif">5:30-7:00pm</span><br />\n	<span style="font-family: arial\, sans-serif">154 South Main Street</span><br />\n	<span style="font-family: arial\, sans-serif">FREE networking event!</span><br />\n	Bring business card to enter to win a prize!</span></span><br />\n	&nbsp\;</div>\n
LOCATION:
UID:e.125.4977
SEQUENCE:3
DTSTAMP:20260420T200246Z
URL:https://members.tooelechamber.com/events/details/bah-jumpin-jack-splash-green-box-recycling-04-25-2013-4977
END:VEVENT

END:VCALENDAR
