BEGIN:VCALENDAR
VERSION:2.0
PRODID:-//ChamberMaster//Event Calendar 2.0//EN
METHOD:PUBLISH
X-PUBLISHED-TTL:P3D
REFRESH-INTERVAL:P3D
CALSCALE:GREGORIAN
BEGIN:VEVENT
DTSTART:20130627T233000Z
DTEND:20130628T010000Z
X-MICROSOFT-CDO-ALLDAYEVENT:FALSE
SUMMARY:BAH-Master Gardeners (there)
DESCRIPTION:Business After Hours \n\n	Master Gardeners\n\n	Thursday\, June 28th\, 2013\n\n	5:30-7:00pm\n\n	984 Ironwood Road\n\n	Erda\, Utah 84074
X-ALT-DESC;FMTTYPE=text/html:<div style="color: gray">\n	Business After Hours<span _fck_bookmark="1" style="display: none">&nbsp\;<br />\n	Master Gardeners<br />\n	Thursday\, June 28th\, 2013<br />\n	5:30-7:00pm<br />\n	984 Ironwood Road<br />\n	Erda\, Utah 84074</span></div>\n
LOCATION:
UID:e.125.4987
SEQUENCE:3
DTSTAMP:20260420T144900Z
URL:https://members.tooelechamber.com/events/details/bah-master-gardeners-there-06-27-2013-4987
END:VEVENT

END:VCALENDAR
