BEGIN:VCALENDAR
VERSION:2.0
PRODID:-//ChamberMaster//Event Calendar 2.0//EN
METHOD:PUBLISH
X-PUBLISHED-TTL:P3D
REFRESH-INTERVAL:P3D
CALSCALE:GREGORIAN
BEGIN:VEVENT
DTSTART:20090326T010000Z
DTEND:20090326T030000Z
X-MICROSOFT-CDO-ALLDAYEVENT:FALSE
SUMMARY:Basic Finance and Budgeting Class
DESCRIPTION:Learn basic financing and budgeting skills at this class presented by the Pete Suazo Business Center.   There is no charge for this two hour class and all residents of Tooele County are invited to attend.
X-ALT-DESC;FMTTYPE=text/html:<div><font size="4">Learn basic financing and budgeting skills at this class presented by the Pete Suazo Business Center.&nbsp\;&nbsp\; There is no charge for this two hour class and all residents of Tooele County are invited to attend.&nbsp\;</font></div>
LOCATION:Tooele County Community Resource Center38 South Main Street\, Tooele
UID:e.125.544
SEQUENCE:3
DTSTAMP:20260424T035825Z
URL:https://members.tooelechamber.com/events/details/basic-finance-and-budgeting-class-03-25-2009-544
END:VEVENT

END:VCALENDAR
