BEGIN:VCALENDAR
VERSION:2.0
PRODID:-//ChamberMaster//Event Calendar 2.0//EN
METHOD:PUBLISH
X-PUBLISHED-TTL:P3D
REFRESH-INTERVAL:P3D
CALSCALE:GREGORIAN
BEGIN:VEVENT
DTSTART;VALUE=DATE:20080501
DTEND;VALUE=DATE:20080502
TRANSP:TRANSPARENT
X-MICROSOFT-CDO-ALLDAYEVENT:TRUE
SUMMARY:Benson Grist Mill Opening Day
DESCRIPTION:Benson Grist Mill Opening Day
X-ALT-DESC;FMTTYPE=text/html:<div>Benson Grist Mill Opening Day</div>
LOCATION:
UID:e.125.396
SEQUENCE:3
DTSTAMP:20260424T201904Z
URL:https://members.tooelechamber.com/events/details/benson-grist-mill-opening-day-05-01-2008-396
END:VEVENT

END:VCALENDAR
