BEGIN:VCALENDAR
VERSION:2.0
PRODID:-//ChamberMaster//Event Calendar 2.0//EN
METHOD:PUBLISH
X-PUBLISHED-TTL:P3D
REFRESH-INTERVAL:P3D
CALSCALE:GREGORIAN
BEGIN:VEVENT
DTSTART;VALUE=DATE:20110812
DTEND;VALUE=DATE:20110813
TRANSP:TRANSPARENT
X-MICROSOFT-CDO-ALLDAYEVENT:TRUE
SUMMARY:Benson Grist Mill Preforming Arts Production
DESCRIPTION:Benson Grist Mill Preforming Arts Production\n\n	August 12th-13th\, 15th-16th\, 2011\n\n	www.bensonmill.org
X-ALT-DESC;FMTTYPE=text/html:<p style="text-align: center">\n	<span style="font-size: 22px">Benson Grist Mill Preforming Arts Production<br />\n	August 12th-13th\, 15th-16th\, 2011<br />\n	<a href="http://www.bensonmill.org">www.bensonmill.org</a> </span></p>\n
LOCATION:
UID:e.125.3564
SEQUENCE:3
DTSTAMP:20260422T043834Z
URL:https://members.tooelechamber.com/events/details/benson-grist-mill-preforming-arts-production-08-12-2011-3564
END:VEVENT

END:VCALENDAR
