BEGIN:VCALENDAR
VERSION:2.0
PRODID:-//ChamberMaster//Event Calendar 2.0//EN
METHOD:PUBLISH
X-PUBLISHED-TTL:P3D
REFRESH-INTERVAL:P3D
CALSCALE:GREGORIAN
BEGIN:VEVENT
DTSTART:20091016T160000Z
DTEND:20091018T030000Z
X-MICROSOFT-CDO-ALLDAYEVENT:FALSE
SUMMARY:Benson Gristmill Pumpkin Walk
DESCRIPTION:Benson Grist Mill Pumpkin Walk325 SR138\, Stansbury
X-ALT-DESC;FMTTYPE=text/html:<p>Benson Grist Mill Pumpkin Walk</p><p>325 SR138\, Stansbury</p>
LOCATION:Benson Grist Mill Pumpkin Walk325 SR138\, Stansbury
UID:e.125.1229
SEQUENCE:3
DTSTAMP:20260423T150524Z
URL:https://members.tooelechamber.com/events/details/benson-gristmill-pumpkin-walk-10-16-2009-1229
END:VEVENT

END:VCALENDAR
