BEGIN:VCALENDAR
VERSION:2.0
PRODID:-//ChamberMaster//Event Calendar 2.0//EN
METHOD:PUBLISH
X-PUBLISHED-TTL:P3D
REFRESH-INTERVAL:P3D
CALSCALE:GREGORIAN
BEGIN:VEVENT
DTSTART;VALUE=DATE:20111031
DTEND;VALUE=DATE:20111101
TRANSP:TRANSPARENT
X-MICROSOFT-CDO-ALLDAYEVENT:TRUE
SUMMARY:Benson Mill Closes
DESCRIPTION:www.bensonmill.org
X-ALT-DESC;FMTTYPE=text/html:<a href="http://www.bensonmill.org">www.bensonmill.org</a> 
LOCATION:
UID:e.125.3575
SEQUENCE:3
DTSTAMP:20260422T011329Z
URL:https://members.tooelechamber.com/events/details/benson-mill-closes-10-31-2011-3575
END:VEVENT

END:VCALENDAR
