BEGIN:VCALENDAR
VERSION:2.0
PRODID:-//ChamberMaster//Event Calendar 2.0//EN
METHOD:PUBLISH
X-PUBLISHED-TTL:P3D
REFRESH-INTERVAL:P3D
CALSCALE:GREGORIAN
BEGIN:VEVENT
DTSTART:20090619T010000Z
DTEND:20090619T023000Z
X-MICROSOFT-CDO-ALLDAYEVENT:FALSE
SUMMARY:Bereavement Education and Support Group
DESCRIPTION:Bereavement Education and\nSupport Group Free to Public\n June 18th\, July 16th\nand August 13th\, 2009\nTime: 7:00 pm to 8:30 pm\n1887 N. Aaron Dr. Suite D \nSponsored by: Mountain West Hospice\n435-882-4163
X-ALT-DESC;FMTTYPE=text/html:<div>&nbsp\;<font size="2"><font size="+0"><font size="4"> <div align="center"><strong><u>Bereavement Education and<br />Support Group</u></strong></div><div align="center">&nbsp\;</div><div align="center">Free to Public<br />&nbsp\;June 18th\, July 16th<br />and August 13th\, 2009<br />Time: 7:00 pm to 8:30 pm<br />1887 N. Aaron Dr. Suite D <br />Sponsored by: Mountain West Hospice<br />435-882-4163</div></font></font></font></div>
LOCATION:
UID:e.125.2534
SEQUENCE:3
DTSTAMP:20260423T213328Z
URL:https://members.tooelechamber.com/events/details/bereavement-education-and-support-group-06-18-2009-2534
END:VEVENT

END:VCALENDAR
