BEGIN:VCALENDAR
VERSION:2.0
PRODID:-//ChamberMaster//Event Calendar 2.0//EN
METHOD:PUBLISH
X-PUBLISHED-TTL:P3D
REFRESH-INTERVAL:P3D
CALSCALE:GREGORIAN
BEGIN:VEVENT
DTSTART:20100402T010000Z
DTEND:20100402T030000Z
X-MICROSOFT-CDO-ALLDAYEVENT:FALSE
SUMMARY:Bereavement Support Group
DESCRIPTION:Mountain West Hospice Community Outreach Bereavement Support Group "You're not alone with your grief"Thursday's\, Starting April 1st\, 2010 - to May 27th\, 2010Moutain West Hospice 1887 North Aaron Drive Ste D\, Tooele FREE to the PUBLICFacilitated by: Irene Ramirez (Social Worker/ Bereavement Coordinator)Call Moutain West Hospice for information: (435)882-4163Patner's In Care
X-ALT-DESC;FMTTYPE=text/html:<div style="text-align: center"><span style="font-family: Tahoma"><span style="font-size: medium">Mountain West Hospice </span></span></div><div style="text-align: center"><span style="font-family: Tahoma"><span style="font-size: medium">Community Outreach </span></span></div><div style="text-align: center"><span style="font-family: Tahoma"><span style="font-size: medium">Bereavement Support Group </span></span></div><div style="text-align: center"><span style="font-family: Tahoma"><span style="font-size: medium">&quot\;You're not alone with your grief&quot\;</span></span></div><div style="text-align: center"><span style="font-family: Tahoma"><span style="font-size: medium">Thursday's\, Starting April 1st\, 2010 - to May 27th\, 2010</span></span></div><div style="text-align: center"><span style="font-family: Tahoma"><span style="font-size: medium">Moutain West Hospice </span></span></div><div style="text-align: center"><span style="font-family: Tahoma"><span style="font-size: medium">1887 North Aaron Drive Ste D\, Tooele </span></span></div><div style="text-align: center"><span style="font-family: Tahoma"><u><strong><span style="font-size: medium">FREE to the PUBLIC</span></strong></u></span></div><div style="text-align: center"><span style="font-family: Tahoma"><span style="font-size: medium">Facilitated by: Irene Ramirez </span></span></div><div style="text-align: center"><span style="font-family: Tahoma"><span style="font-size: medium">(Social Worker/ Bereavement Coordinator)</span></span></div><div style="text-align: center"><span style="font-family: Tahoma"><span style="font-size: medium">Call Moutain West Hospice for information: (435)882-4163</span></span></div><div style="text-align: center"><span style="font-family: Tahoma"><span style="font-size: medium">Patner's In Care </span></span></div>
LOCATION:
UID:e.125.3134
SEQUENCE:3
DTSTAMP:20260423T061956Z
URL:https://members.tooelechamber.com/events/details/bereavement-support-group-04-01-2010-3134
END:VEVENT

END:VCALENDAR
