BEGIN:VCALENDAR
VERSION:2.0
PRODID:-//ChamberMaster//Event Calendar 2.0//EN
METHOD:PUBLISH
X-PUBLISHED-TTL:P3D
REFRESH-INTERVAL:P3D
CALSCALE:GREGORIAN
BEGIN:VEVENT
DTSTART:20100916T000000Z
DTEND:20100916T010000Z
X-MICROSOFT-CDO-ALLDAYEVENT:FALSE
SUMMARY:Bi-Partisan Candidate Ice Cream Social
DESCRIPTION:Come visit with the local candidates!     There is no charge for this event.   Everyone welcome!
X-ALT-DESC;FMTTYPE=text/html:<div>Come visit with the local candidates!&nbsp\;&nbsp\;&nbsp\;&nbsp\; There is no charge for this event.&nbsp\;&nbsp\; Everyone welcome!</div>
LOCATION:Benson Grist Mill325 SR-138Stansbury Park
UID:e.125.3233
SEQUENCE:3
DTSTAMP:20260422T220126Z
URL:https://members.tooelechamber.com/events/details/bi-partisan-candidate-ice-cream-social-09-15-2010-3233
END:VEVENT

END:VCALENDAR
