BEGIN:VCALENDAR
VERSION:2.0
PRODID:-//ChamberMaster//Event Calendar 2.0//EN
METHOD:PUBLISH
X-PUBLISHED-TTL:P3D
REFRESH-INTERVAL:P3D
CALSCALE:GREGORIAN
BEGIN:VEVENT
DTSTART;VALUE=DATE:20110528
DTEND;VALUE=DATE:20110531
TRANSP:TRANSPARENT
X-MICROSOFT-CDO-ALLDAYEVENT:TRUE
SUMMARY:BigM Weekend
DESCRIPTION:The BigM Weekend is Utah?s new Memorial Day tradition! Kick off the summer with three days of motorcycle racing\, music and military tributes at Miller Motorsports Park! The BigM Weekend includes world-class racing from the Superbike World Championship and AMA Pro Racing\, plus rock concerts on Saturday and Sunday nights. Visit www.BigMweekend.com for details!\n\n\n\nDon?t Forget: You can?t spell Memorial Day without a BigM!
X-ALT-DESC;FMTTYPE=text/html:The BigM Weekend is Utah?s new Memorial Day tradition! Kick off the summer with three days of motorcycle racing\, music and military tributes at Miller Motorsports Park! The BigM Weekend includes world-class racing from the Superbike World Championship and AMA Pro Racing\, plus rock concerts on Saturday and Sunday nights. Visit www.BigMweekend.com for details!\n<br>\n<br>Don?t Forget: You can?t spell Memorial Day without a BigM!\n<br>
LOCATION:Miller Motorsports Park
UID:e.125.3656
SEQUENCE:3
DTSTAMP:20260422T090915Z
URL:https://members.tooelechamber.com/events/details/bigm-weekend-05-28-2011-3656
END:VEVENT

END:VCALENDAR
