BEGIN:VCALENDAR
VERSION:2.0
PRODID:-//ChamberMaster//Event Calendar 2.0//EN
METHOD:PUBLISH
X-PUBLISHED-TTL:P3D
REFRESH-INTERVAL:P3D
CALSCALE:GREGORIAN
BEGIN:VEVENT
DTSTART;VALUE=DATE:20070505
DTEND;VALUE=DATE:20070506
TRANSP:TRANSPARENT
X-MICROSOFT-CDO-ALLDAYEVENT:TRUE
SUMMARY:Bike2Bike Ghost Town Riders Century Fundraiser
DESCRIPTION:Join Bike2Bike on a fun ride through some of Utah's historical Ghost Towns of Yesteryear.  This is the perfect ride to start the season.  Mostly flat country with some rolling hills\, little traffic\, the Pony Express trail\, and awe inspiring vistas.  Come join the ranks of past Ghost Town Riders will supporting Valley Mental Health.\nTo register or for more information visit the official Bike2Bike website at www.bike2bike.org
X-ALT-DESC;FMTTYPE=text/html:Join Bike2Bike on a fun ride through some of Utah&rsquo\;s historical Ghost Towns of Yesteryear.&nbsp\; This is the perfect ride to start the season.&nbsp\; Mostly flat country with some rolling hills\, little traffic\, the Pony Express trail\, and awe inspiring vistas.&nbsp\; Come join the ranks of past Ghost Town Riders will supporting Valley Mental Health.<br />To register or for more information visit the official Bike2Bike website at www.bike2bike.org
LOCATION:Place: Deseret Peak Complex 2930 West Hwy 112\, Tooele\, UT
UID:e.125.69
SEQUENCE:3
DTSTAMP:20260425T125511Z
URL:https://members.tooelechamber.com/events/details/bike2bike-ghost-town-riders-century-fundraiser-05-05-2007-69
END:VEVENT

END:VCALENDAR
