BEGIN:VCALENDAR
VERSION:2.0
PRODID:-//ChamberMaster//Event Calendar 2.0//EN
METHOD:PUBLISH
X-PUBLISHED-TTL:P3D
REFRESH-INTERVAL:P3D
CALSCALE:GREGORIAN
BEGIN:VEVENT
DTSTART;VALUE=DATE:20140726
DTEND;VALUE=DATE:20140728
TRANSP:TRANSPARENT
X-MICROSOFT-CDO-ALLDAYEVENT:TRUE
SUMMARY:BikeFest Weekend
DESCRIPTION:If you love motorcycle racing\, don't miss Bike Fest at Miller Motorsports Park on July 26th and 27th. The Michelin/WERA National Challenge Series and the Pirelli/WERA West Sportsman Series presented by Lucas Oil will be joined by the Utah SportBike Association's Masters of the Mountains Series and AMA National Supermoto for two days of red-hot action.\n\n\n\nhttp://www.millermotorsportspark.com/events/bike-fest.html
X-ALT-DESC;FMTTYPE=text/html:<span style="color: rgb(110\, 110\, 110)\; font-family: Helvetica\, Arial\, FreeSans\, sans-serif\; font-size: 14px\; line-height: 23.799999237060547px\; background-color: rgb(245\, 245\, 245)\;">If you love motorcycle racing\, don&rsquo\;t miss Bike Fest at Miller Motorsports Park on July 26th and 27th. The Michelin/WERA National Challenge Series and the Pirelli/WERA West Sportsman Series presented by Lucas Oil will be joined by the Utah SportBike Association&rsquo\;s Masters of the Mountains Series and AMA National Supermoto for two days of red-hot action.<br />\n<br />\n<a href="http://www.millermotorsportspark.com/events/bike-fest.html">http://www.millermotorsportspark.com/events/bike-fest.html</a></span>
LOCATION:Miller Motorsports Park 2901 North Sheep Lane Tooele
UID:e.125.5361
SEQUENCE:3
DTSTAMP:20260419T142754Z
URL:https://members.tooelechamber.com/events/details/bikefest-weekend-07-26-2014-5361
END:VEVENT

END:VCALENDAR
