BEGIN:VCALENDAR
VERSION:2.0
PRODID:-//ChamberMaster//Event Calendar 2.0//EN
METHOD:PUBLISH
X-PUBLISHED-TTL:P3D
REFRESH-INTERVAL:P3D
CALSCALE:GREGORIAN
BEGIN:VEVENT
DTSTART:20110704T003000Z
DTEND:20110704T040000Z
X-MICROSOFT-CDO-ALLDAYEVENT:FALSE
SUMMARY:Bit and Spur Rodeo
DESCRIPTION:Bit and Spur Rodeo\n\n	Sunday\, July 3\, 2011\n\n	6:30pm Mutton Bustin'\n\n	8pm Rodeo\n\n	Deseret Peak Complex\n\n	2930 West Hwy 112\, Tooele\n\n	Tickets available at the gate or discount advance tickets can be purchased at Macey's and online at www.bitandspurriddingclub.com\n\n	Mutton Bustin' and Rescue Race sign-ups call 801-661-5319
X-ALT-DESC;FMTTYPE=text/html:<p style="text-align: center">\n	<span style="font-size: 26px">Bit&nbsp\;and Spur Rodeo<br />\n	Sunday\, July 3\, 2011<br />\n	6:30pm Mutton Bustin&#39\;<br />\n	8pm Rodeo<br />\n	Deseret Peak Complex<br />\n	2930 West Hwy 112\, Tooele<br />\n	Tickets available at the gate or discount advance tickets can be purchased at Macey&#39\;s and online at <a href="http://www.bitandspurriddingclub.com">www.bitandspurriddingclub.com</a><br />\n	Mutton Bustin&#39\; and Rescue Race sign-ups call 801-661-5319&nbsp\;</span></p>\n
LOCATION:
UID:e.125.3715
SEQUENCE:3
DTSTAMP:20260422T060115Z
URL:https://members.tooelechamber.com/events/details/bit-and-spur-rodeo-07-03-2011-3715
END:VEVENT

END:VCALENDAR
