BEGIN:VCALENDAR
VERSION:2.0
PRODID:-//ChamberMaster//Event Calendar 2.0//EN
METHOD:PUBLISH
X-PUBLISHED-TTL:P3D
REFRESH-INTERVAL:P3D
CALSCALE:GREGORIAN
BEGIN:VEVENT
DTSTART;VALUE=DATE:20080703
DTEND;VALUE=DATE:20080705
TRANSP:TRANSPARENT
X-MICROSOFT-CDO-ALLDAYEVENT:TRUE
SUMMARY:Bit n. Spur Rodeo
DESCRIPTION:Bit n\, Spur Rodeo
X-ALT-DESC;FMTTYPE=text/html:<div>Bit n\, Spur Rodeo</div>
LOCATION:Deseret Peak Complex2930 West Hwy 112\, Tooele
UID:e.125.407
SEQUENCE:3
DTSTAMP:20260424T161414Z
URL:https://members.tooelechamber.com/events/details/bit-n-spur-rodeo-07-03-2008-407
END:VEVENT

END:VCALENDAR
