BEGIN:VCALENDAR
VERSION:2.0
PRODID:-//ChamberMaster//Event Calendar 2.0//EN
METHOD:PUBLISH
X-PUBLISHED-TTL:P3D
REFRESH-INTERVAL:P3D
CALSCALE:GREGORIAN
BEGIN:VEVENT
DTSTART:20100402T220000Z
DTEND:20100403T030000Z
X-MICROSOFT-CDO-ALLDAYEVENT:FALSE
SUMMARY:Blood Drive
DESCRIPTION:University of Utah - Tooele Blood Drive Friday\, April 2\, 2010 4:00-9:00pm 1021 West Vine Street - Bloodmobile To schedule your appointment\, or for more information\, please contact Rachael Anderson (435)850-2582If you have eligibility questions\, please call 1-866-236-3276Identification is required
X-ALT-DESC;FMTTYPE=text/html:<div style="text-align: center">&nbsp\;</div><div style="text-align: center"><u><strong><span style="font-size: large">University of Utah - Tooele </span></strong></u></div><div style="text-align: center"><u><strong><span style="font-size: large">Blood Drive </span></strong></u></div><div style="text-align: center"><span style="font-size: medium">Friday\, April 2\, 2010 </span></div><div style="text-align: center"><span style="font-size: medium">4:00-9:00pm </span></div><div style="text-align: center"><span style="font-size: medium">1021 West Vine Street - Bloodmobile </span></div><div style="text-align: center"><span style="font-size: medium">To schedule your appointment\, or for more information\, </span></div><div style="text-align: center"><span style="font-size: medium">please contact Rachael Anderson (435)850-2582</span></div><div style="text-align: center"><span style="font-size: medium">If you have eligibility questions\, please call 1-866-236-3276</span></div><div style="text-align: center"><strong><span style="font-size: medium">Identification is required </span></strong></div><div>&nbsp\;</div>
LOCATION:
UID:e.125.3123
SEQUENCE:3
DTSTAMP:20260423T062129Z
URL:https://members.tooelechamber.com/events/details/blood-drive-04-02-2010-3123
END:VEVENT

END:VCALENDAR
