BEGIN:VCALENDAR
VERSION:2.0
PRODID:-//ChamberMaster//Event Calendar 2.0//EN
METHOD:PUBLISH
X-PUBLISHED-TTL:P3D
REFRESH-INTERVAL:P3D
CALSCALE:GREGORIAN
BEGIN:VEVENT
DTSTART:20130306T143000Z
DTEND:20130306T160000Z
X-MICROSOFT-CDO-ALLDAYEVENT:FALSE
SUMMARY:Board Meeting
DESCRIPTION:Board Meeting\n\n7:30am
X-ALT-DESC;FMTTYPE=text/html:Board Meeting<br />\n7:30am
LOCATION:
UID:e.125.4967
SEQUENCE:3
DTSTAMP:20260420T201601Z
URL:https://members.tooelechamber.com/events/details/board-meeting-03-06-2013-4967
END:VEVENT

END:VCALENDAR
