BEGIN:VCALENDAR
VERSION:2.0
PRODID:-//ChamberMaster//Event Calendar 2.0//EN
METHOD:PUBLISH
X-PUBLISHED-TTL:P3D
REFRESH-INTERVAL:P3D
CALSCALE:GREGORIAN
BEGIN:VEVENT
DTSTART;VALUE=DATE:20091007
DTEND;VALUE=DATE:20091011
TRANSP:TRANSPARENT
X-MICROSOFT-CDO-ALLDAYEVENT:TRUE
SUMMARY:Bonneville Salt Flats World Finals
DESCRIPTION:Bonneville Salt Flats World Finalswww.scta-bni.orgSouthern Calif. Timing 559-528-6279
X-ALT-DESC;FMTTYPE=text/html:<div><font face="Frutiger-LightCn" size="1"><font face="Frutiger-LightCn" size="1"><p align="center"><font size="4">Bonneville Salt Flats World Finals</font></p><p align="center"><font size="4">www.scta-bni.org</font></p><p align="center"><font size="4">Southern Calif. Timing 559-528-6279</font></p></font></font></div>
LOCATION:
UID:e.125.1228
SEQUENCE:3
DTSTAMP:20260423T150730Z
URL:https://members.tooelechamber.com/events/details/bonneville-salt-flats-world-finals-10-07-2009-1228
END:VEVENT

END:VCALENDAR
