BEGIN:VCALENDAR
VERSION:2.0
PRODID:-//ChamberMaster//Event Calendar 2.0//EN
METHOD:PUBLISH
X-PUBLISHED-TTL:P3D
REFRESH-INTERVAL:P3D
CALSCALE:GREGORIAN
BEGIN:VEVENT
DTSTART;VALUE=DATE:20110914
DTEND;VALUE=DATE:20110918
TRANSP:TRANSPARENT
X-MICROSOFT-CDO-ALLDAYEVENT:TRUE
SUMMARY:Bonneville Salt Flats World of Speed Race
DESCRIPTION:Bonneville Salt Flats\n\n	World of Speed Race\n\n	September 14th-17th\n\n	www.saltflats.com
X-ALT-DESC;FMTTYPE=text/html:<p style="text-align: center">\n	<span style="font-size: 24px">Bonneville Salt Flats<br />\n	World of Speed Race<br />\n	September 14th-17th<br />\n	<a href="http://www.saltflats.com">www.saltflats.com</a> </span></p>\n
LOCATION:
UID:e.125.3571
SEQUENCE:3
DTSTAMP:20260422T030440Z
URL:https://members.tooelechamber.com/events/details/bonneville-salt-flats-world-of-speed-race-09-14-2011-3571
END:VEVENT

END:VCALENDAR
