BEGIN:VCALENDAR
VERSION:2.0
PRODID:-//ChamberMaster//Event Calendar 2.0//EN
METHOD:PUBLISH
X-PUBLISHED-TTL:P3D
REFRESH-INTERVAL:P3D
CALSCALE:GREGORIAN
BEGIN:VEVENT
DTSTART;VALUE=DATE:20110812
DTEND;VALUE=DATE:20110820
TRANSP:TRANSPARENT
X-MICROSOFT-CDO-ALLDAYEVENT:TRUE
SUMMARY:Bonneville Speed Week
DESCRIPTION:
X-ALT-DESC;FMTTYPE=text/html:
LOCATION:Bonneville Salt Flats Wendover\, UT
UID:e.125.3609
SEQUENCE:3
DTSTAMP:20260422T043715Z
URL:https://members.tooelechamber.com/events/details/bonneville-speed-week-08-12-2011-3609
END:VEVENT

END:VCALENDAR
